BEGIN:VCALENDAR
VERSION:2.0
PRODID:-//Shotokan Kyokai Berlin - ECPv6.15.20//NONSGML v1.0//EN
CALSCALE:GREGORIAN
METHOD:PUBLISH
X-ORIGINAL-URL:https://www.shotokan-berlin.de
X-WR-CALDESC:Veranstaltungen für Shotokan Kyokai Berlin
REFRESH-INTERVAL;VALUE=DURATION:PT1H
X-Robots-Tag:noindex
X-PUBLISHED-TTL:PT1H
BEGIN:VTIMEZONE
TZID:Europe/Helsinki
BEGIN:DAYLIGHT
TZOFFSETFROM:+0200
TZOFFSETTO:+0300
TZNAME:EEST
DTSTART:20230326T010000
END:DAYLIGHT
BEGIN:STANDARD
TZOFFSETFROM:+0300
TZOFFSETTO:+0200
TZNAME:EET
DTSTART:20231029T010000
END:STANDARD
BEGIN:DAYLIGHT
TZOFFSETFROM:+0200
TZOFFSETTO:+0300
TZNAME:EEST
DTSTART:20240331T010000
END:DAYLIGHT
BEGIN:STANDARD
TZOFFSETFROM:+0300
TZOFFSETTO:+0200
TZNAME:EET
DTSTART:20241027T010000
END:STANDARD
BEGIN:DAYLIGHT
TZOFFSETFROM:+0200
TZOFFSETTO:+0300
TZNAME:EEST
DTSTART:20250330T010000
END:DAYLIGHT
BEGIN:STANDARD
TZOFFSETFROM:+0300
TZOFFSETTO:+0200
TZNAME:EET
DTSTART:20251026T010000
END:STANDARD
END:VTIMEZONE
BEGIN:VEVENT
DTSTART;VALUE=DATE:20241012
DTEND;VALUE=DATE:20241013
DTSTAMP:20260421T154744
CREATED:20240103T204940Z
LAST-MODIFIED:20240103T204940Z
UID:5396-1728691200-1728777599@www.shotokan-berlin.de
SUMMARY:Lubusz Cup in Polen
DESCRIPTION:Lubusz Cup\nKarate Kontra Zary \, Polen
URL:https://www.shotokan-berlin.de/event/lubusz-cup-in-polen/
CATEGORIES:Taikai,Tournament
ATTACH;FMTTYPE=image/jpeg:https://www.shotokan-berlin.de/wp-content/uploads/2023/02/JKA-Tobu-Junior-Cup-2023-16.jpg
END:VEVENT
BEGIN:VEVENT
DTSTART;VALUE=DATE:20241025
DTEND;VALUE=DATE:20241028
DTSTAMP:20260421T154744
CREATED:20240103T205410Z
LAST-MODIFIED:20240103T205911Z
UID:5400-1729814400-1730073599@www.shotokan-berlin.de
SUMMARY:JKA World Karate-do Championships Tournament\, Funakoshi Gichin World Cup
DESCRIPTION:JKA World Karate-do Championships Tournament\, Funakoshi Gichin World Cup\nTokyo\, Japan
URL:https://www.shotokan-berlin.de/event/jka-world-karate-do-championships-tournament-funakoshi-gichin-world-cup/
CATEGORIES:Taikai
ATTACH;FMTTYPE=image/jpeg:https://www.shotokan-berlin.de/wp-content/uploads/2019/06/14657250_10211652543095939_3905600736437242688_n-e1560961694494.jpg
END:VEVENT
END:VCALENDAR