BEGIN:VCALENDAR
VERSION:2.0
PRODID:-//Shotokan Kyokai Berlin - ECPv6.15.20//NONSGML v1.0//EN
CALSCALE:GREGORIAN
METHOD:PUBLISH
X-WR-CALNAME:Shotokan Kyokai Berlin
X-ORIGINAL-URL:https://www.shotokan-berlin.de
X-WR-CALDESC:Veranstaltungen für Shotokan Kyokai Berlin
REFRESH-INTERVAL;VALUE=DURATION:PT1H
X-Robots-Tag:noindex
X-PUBLISHED-TTL:PT1H
BEGIN:VTIMEZONE
TZID:Europe/Helsinki
BEGIN:DAYLIGHT
TZOFFSETFROM:+0200
TZOFFSETTO:+0300
TZNAME:EEST
DTSTART:20240331T010000
END:DAYLIGHT
BEGIN:STANDARD
TZOFFSETFROM:+0300
TZOFFSETTO:+0200
TZNAME:EET
DTSTART:20241027T010000
END:STANDARD
BEGIN:DAYLIGHT
TZOFFSETFROM:+0200
TZOFFSETTO:+0300
TZNAME:EEST
DTSTART:20250330T010000
END:DAYLIGHT
BEGIN:STANDARD
TZOFFSETFROM:+0300
TZOFFSETTO:+0200
TZNAME:EET
DTSTART:20251026T010000
END:STANDARD
BEGIN:DAYLIGHT
TZOFFSETFROM:+0200
TZOFFSETTO:+0300
TZNAME:EEST
DTSTART:20260329T010000
END:DAYLIGHT
BEGIN:STANDARD
TZOFFSETFROM:+0300
TZOFFSETTO:+0200
TZNAME:EET
DTSTART:20261025T010000
END:STANDARD
END:VTIMEZONE
BEGIN:VEVENT
DTSTART;TZID=Europe/Helsinki:20251004T100000
DTEND;TZID=Europe/Helsinki:20251004T150000
DTSTAMP:20260421T195815
CREATED:20250208T111843Z
LAST-MODIFIED:20250716T094806Z
UID:6557-1759572000-1759590000@www.shotokan-berlin.de
SUMMARY:Efthimios Karamitsos in Berlin Lichterfelde
DESCRIPTION:Lehrgang mit Efthimios Karamitsos DKV Bundestrainer Kata (WKF) \n\nLouise-Schroeder-Schule\, OSZ\nLippstädter Strasse 9-11\, 12207 Berlin \nS-Bhf Lichterfelde Süd\, Bus M85 \nLehrgang 2025 Karamitsos 04.10.25
URL:https://www.shotokan-berlin.de/event/efthimios-karamitsos-in-berlin-lichterfelde/
CATEGORIES:Seminar
END:VEVENT
BEGIN:VEVENT
DTSTART;VALUE=DATE:20251010
DTEND;VALUE=DATE:20251021
DTSTAMP:20260421T195815
CREATED:20251007T143643Z
LAST-MODIFIED:20251007T143643Z
UID:7004-1760054400-1761004799@www.shotokan-berlin.de
SUMMARY:Shotokan Kyokai Japan Reise
DESCRIPTION:
URL:https://www.shotokan-berlin.de/event/shotokan-kyokai-japan-reise/
CATEGORIES:Event
END:VEVENT
BEGIN:VEVENT
DTSTART;VALUE=DATE:20251011
DTEND;VALUE=DATE:20251012
DTSTAMP:20260421T195815
CREATED:20241127T115714Z
LAST-MODIFIED:20241127T115714Z
UID:6446-1760140800-1760227199@www.shotokan-berlin.de
SUMMARY:Lubusz Cup\, JKA Poland
DESCRIPTION:Lubusz Cup\, JKA Poland
URL:https://www.shotokan-berlin.de/event/lubusz-cup-jka-poland/
CATEGORIES:Wettkampf
END:VEVENT
BEGIN:VEVENT
DTSTART;VALUE=DATE:20251016
DTEND;VALUE=DATE:20251020
DTSTAMP:20260421T195815
CREATED:20241127T115948Z
LAST-MODIFIED:20241127T125440Z
UID:6448-1760572800-1760918399@www.shotokan-berlin.de
SUMMARY:JKA Joint Autumn Camp
DESCRIPTION:JKA Joint Autumn Camp in Tokyo\, \nJKA Headquarters
URL:https://www.shotokan-berlin.de/event/jka-joint-autumn-camp/
CATEGORIES:Gasshuku
END:VEVENT
BEGIN:VEVENT
DTSTART;VALUE=DATE:20251020
DTEND;VALUE=DATE:20251101
DTSTAMP:20260421T195815
CREATED:20251007T143907Z
LAST-MODIFIED:20251007T143907Z
UID:7006-1760918400-1761955199@www.shotokan-berlin.de
SUMMARY:Shotokan Kyokai Japan Reise 2 Gruppe
DESCRIPTION:
URL:https://www.shotokan-berlin.de/event/shotokan-kyokai-japan-reise-2_gruppe/
CATEGORIES:Event
END:VEVENT
BEGIN:VEVENT
DTSTART;VALUE=DATE:20251020
DTEND;VALUE=DATE:20251103
DTSTAMP:20260421T195815
CREATED:20251007T142200Z
LAST-MODIFIED:20251007T142200Z
UID:7002-1760918400-1762127999@www.shotokan-berlin.de
SUMMARY:Schulferien
DESCRIPTION:
URL:https://www.shotokan-berlin.de/event/schulferien/
CATEGORIES:Ferien und Feiertage
END:VEVENT
END:VCALENDAR