BEGIN:VCALENDAR
VERSION:2.0
PRODID:-//Shotokan Kyokai Berlin - ECPv6.15.20//NONSGML v1.0//EN
CALSCALE:GREGORIAN
METHOD:PUBLISH
X-ORIGINAL-URL:https://www.shotokan-berlin.de
X-WR-CALDESC:Veranstaltungen für Shotokan Kyokai Berlin
REFRESH-INTERVAL;VALUE=DURATION:PT1H
X-Robots-Tag:noindex
X-PUBLISHED-TTL:PT1H
BEGIN:VTIMEZONE
TZID:Europe/Helsinki
BEGIN:DAYLIGHT
TZOFFSETFROM:+0200
TZOFFSETTO:+0300
TZNAME:EEST
DTSTART:20240331T010000
END:DAYLIGHT
BEGIN:STANDARD
TZOFFSETFROM:+0300
TZOFFSETTO:+0200
TZNAME:EET
DTSTART:20241027T010000
END:STANDARD
BEGIN:DAYLIGHT
TZOFFSETFROM:+0200
TZOFFSETTO:+0300
TZNAME:EEST
DTSTART:20250330T010000
END:DAYLIGHT
BEGIN:STANDARD
TZOFFSETFROM:+0300
TZOFFSETTO:+0200
TZNAME:EET
DTSTART:20251026T010000
END:STANDARD
BEGIN:DAYLIGHT
TZOFFSETFROM:+0200
TZOFFSETTO:+0300
TZNAME:EEST
DTSTART:20260329T010000
END:DAYLIGHT
BEGIN:STANDARD
TZOFFSETFROM:+0300
TZOFFSETTO:+0200
TZNAME:EET
DTSTART:20261025T010000
END:STANDARD
END:VTIMEZONE
BEGIN:VEVENT
DTSTART;VALUE=DATE:20250606
DTEND;VALUE=DATE:20250609
DTSTAMP:20260423T162527
CREATED:20241118T154344Z
LAST-MODIFIED:20241119T203052Z
UID:6403-1749168000-1749427199@www.shotokan-berlin.de
SUMMARY:Ogura Sensei bei JKA Rumänien
DESCRIPTION:Ogura Sensei bei JKA Rumänien in Timisoara\, \nJKA Karate Seminar / Gasshuku
URL:https://www.shotokan-berlin.de/event/ogura-sensei-in-rumaenien/
CATEGORIES:Seminar
END:VEVENT
BEGIN:VEVENT
DTSTART;VALUE=DATE:20250609
DTEND;VALUE=DATE:20250611
DTSTAMP:20260423T162527
CREATED:20250609T152032Z
LAST-MODIFIED:20250609T153815Z
UID:6727-1749427200-1749599999@www.shotokan-berlin.de
SUMMARY:Feiertagen & Brückentag für Schulen
DESCRIPTION:Kein Training  | no classes: 09.06. und 10.06.2025\, \nleider ist der Trainingsort geschlossen.\nUnfortunately the training location is closed.
URL:https://www.shotokan-berlin.de/event/feiertagen-brueckentag/
CATEGORIES:Ferien und Feiertage
END:VEVENT
BEGIN:VEVENT
DTSTART;VALUE=DATE:20250614
DTEND;VALUE=DATE:20250616
DTSTAMP:20260423T162527
CREATED:20240914T165354Z
LAST-MODIFIED:20240914T165354Z
UID:6224-1749859200-1750031999@www.shotokan-berlin.de
SUMMARY:Masao Kawasoe in Kaltenkirchen
DESCRIPTION:Masao Kawasoe in Kaltenkirchen
URL:https://www.shotokan-berlin.de/event/masao-kawasoe-in-kaltenkirchen/
CATEGORIES:Seminar
END:VEVENT
BEGIN:VEVENT
DTSTART;VALUE=DATE:20250621
DTEND;VALUE=DATE:20250622
DTSTAMP:20260423T162527
CREATED:20241127T124641Z
LAST-MODIFIED:20241127T124641Z
UID:6454-1750464000-1750550399@www.shotokan-berlin.de
SUMMARY:JSKE Open Championships UK
DESCRIPTION:JSKE Open Championships UK at University of Hertfordshire Sports Village  \nHertfordshire Sports Village\nde Havilland Campus\nHatfield Business Park\nHatfield\nAL10 9EU \n 
URL:https://www.shotokan-berlin.de/event/jske-open-championships-uk/
LOCATION:Hertfordshire Sports Village\, Hatfield AL10 9EU\, Hatfield\, AL10 9EU\, United Kingdom
END:VEVENT
BEGIN:VEVENT
DTSTART;VALUE=DATE:20250627
DTEND;VALUE=DATE:20250630
DTSTAMP:20260423T162527
CREATED:20241118T154629Z
LAST-MODIFIED:20241118T155920Z
UID:6405-1750982400-1751241599@www.shotokan-berlin.de
SUMMARY:Shiina Sensei in Lollar
DESCRIPTION:JKA Karate Seminar\,\nShiina Sensei in Lollar\, bei Gießen\, Germany;\nAusschreibung folgt
URL:https://www.shotokan-berlin.de/event/shiina-sensei-in-lollar/
END:VEVENT
END:VCALENDAR