BEGIN:VCALENDAR
VERSION:2.0
PRODID:-//Shotokan Kyokai Berlin - ECPv6.15.20//NONSGML v1.0//EN
CALSCALE:GREGORIAN
METHOD:PUBLISH
X-WR-CALNAME:Shotokan Kyokai Berlin
X-ORIGINAL-URL:https://www.shotokan-berlin.de
X-WR-CALDESC:Veranstaltungen für Shotokan Kyokai Berlin
REFRESH-INTERVAL;VALUE=DURATION:PT1H
X-Robots-Tag:noindex
X-PUBLISHED-TTL:PT1H
BEGIN:VTIMEZONE
TZID:Europe/Helsinki
BEGIN:DAYLIGHT
TZOFFSETFROM:+0200
TZOFFSETTO:+0300
TZNAME:EEST
DTSTART:20240331T010000
END:DAYLIGHT
BEGIN:STANDARD
TZOFFSETFROM:+0300
TZOFFSETTO:+0200
TZNAME:EET
DTSTART:20241027T010000
END:STANDARD
BEGIN:DAYLIGHT
TZOFFSETFROM:+0200
TZOFFSETTO:+0300
TZNAME:EEST
DTSTART:20250330T010000
END:DAYLIGHT
BEGIN:STANDARD
TZOFFSETFROM:+0300
TZOFFSETTO:+0200
TZNAME:EET
DTSTART:20251026T010000
END:STANDARD
BEGIN:DAYLIGHT
TZOFFSETFROM:+0200
TZOFFSETTO:+0300
TZNAME:EEST
DTSTART:20260329T010000
END:DAYLIGHT
BEGIN:STANDARD
TZOFFSETFROM:+0300
TZOFFSETTO:+0200
TZNAME:EET
DTSTART:20261025T010000
END:STANDARD
END:VTIMEZONE
BEGIN:VEVENT
DTSTART;VALUE=DATE:20250509
DTEND;VALUE=DATE:20250512
DTSTAMP:20260423T175937
CREATED:20241127T132611Z
LAST-MODIFIED:20241127T132611Z
UID:6458-1746748800-1747007999@www.shotokan-berlin.de
SUMMARY:JKA Windsor Spring Camp
DESCRIPTION:JKA Windsor Spring Camp\, UK\nKawasoe Sensei plus JKA Headquarers Instructors
URL:https://www.shotokan-berlin.de/event/jka-windsor-spring-camp/
CATEGORIES:Gasshuku
END:VEVENT
BEGIN:VEVENT
DTSTART;VALUE=DATE:20250517
DTEND;VALUE=DATE:20250518
DTSTAMP:20260423T175937
CREATED:20241118T153530Z
LAST-MODIFIED:20250319T182009Z
UID:6395-1747440000-1747526399@www.shotokan-berlin.de
SUMMARY:JKA Shokukai Cup in Lollar
DESCRIPTION:JKA Karate Meisterschaft / Cup\nJKA Shokukai Cup in Lollar \nAusschreibung: JKA_Shokukai_Cup_Lollar_2025 (PDF)
URL:https://www.shotokan-berlin.de/event/jka-shokukai-meisterschaft-lollar/
LOCATION:Lollar\, Hessen\, Deutschland
CATEGORIES:Taikai,Tournament,Wettkampf
ATTACH;FMTTYPE=image/jpeg:https://www.shotokan-berlin.de/wp-content/uploads/2023/02/IMG_6100-scaled.jpg
END:VEVENT
BEGIN:VEVENT
DTSTART;TZID=Europe/Helsinki:20250526T080000
DTEND;TZID=Europe/Helsinki:20250526T170000
DTSTAMP:20260423T175937
CREATED:20250526T181634Z
LAST-MODIFIED:20250526T181634Z
UID:6684-1748246400-1748278800@www.shotokan-berlin.de
SUMMARY:Sommertraining Strandbad Tegelsee
DESCRIPTION:Sommertraining Strandbad am Tegelsee\nDas freie Training findet am Tegelsee am Wochenende 30.-31. August statt.\nAm selben Wochenende findet das Sommerfest des Strandbad Tegelsee mit Musik\, Spiel\, Spaß statt.\nWie letztes Jahr kann man also nach dem Training zum Sommerfest des Strandbads gehen. \nBeachten: Dieses Training findet außerhalb des regulären Trainings statt. \nAnreise und Versorgung muss selbst organisiert werden. \nTeilnehmer ab 18 Jahren. \nEs wird keine Gewähr übernommen.\nDas Baden muss selbstständig organisiert im Strandbad erfolgen.
URL:https://www.shotokan-berlin.de/event/sommertraining-strandbad-tegelsee/
END:VEVENT
END:VCALENDAR