BEGIN:VCALENDAR
VERSION:2.0
PRODID:-//Shotokan Kyokai Berlin - ECPv6.15.20//NONSGML v1.0//EN
CALSCALE:GREGORIAN
METHOD:PUBLISH
X-ORIGINAL-URL:https://www.shotokan-berlin.de
X-WR-CALDESC:Veranstaltungen für Shotokan Kyokai Berlin
REFRESH-INTERVAL;VALUE=DURATION:PT1H
X-Robots-Tag:noindex
X-PUBLISHED-TTL:PT1H
BEGIN:VTIMEZONE
TZID:Europe/Helsinki
BEGIN:DAYLIGHT
TZOFFSETFROM:+0200
TZOFFSETTO:+0300
TZNAME:EEST
DTSTART:20250330T010000
END:DAYLIGHT
BEGIN:STANDARD
TZOFFSETFROM:+0300
TZOFFSETTO:+0200
TZNAME:EET
DTSTART:20251026T010000
END:STANDARD
BEGIN:DAYLIGHT
TZOFFSETFROM:+0200
TZOFFSETTO:+0300
TZNAME:EEST
DTSTART:20260329T010000
END:DAYLIGHT
BEGIN:STANDARD
TZOFFSETFROM:+0300
TZOFFSETTO:+0200
TZNAME:EET
DTSTART:20261025T010000
END:STANDARD
BEGIN:DAYLIGHT
TZOFFSETFROM:+0200
TZOFFSETTO:+0300
TZNAME:EEST
DTSTART:20270328T010000
END:DAYLIGHT
BEGIN:STANDARD
TZOFFSETFROM:+0300
TZOFFSETTO:+0200
TZNAME:EET
DTSTART:20271031T010000
END:STANDARD
END:VTIMEZONE
BEGIN:VEVENT
DTSTART;TZID=Europe/Helsinki:20260425T100000
DTEND;TZID=Europe/Helsinki:20260425T163000
DTSTAMP:20260421T115946
CREATED:20260319T214143Z
LAST-MODIFIED:20260409T195457Z
UID:7449-1777111200-1777134600@www.shotokan-berlin.de
SUMMARY:JKA Kyu-Prüfungen in Berlin
DESCRIPTION:JKA Kyu-Prüfungen in Berlin Pankow\, Dolomiten Straße 94\, 13187 Berlin\nShotokan Kyokai Berlin JKA Lehrgang und Prüfungen \nAlle Details hier \n \n \nOnline Anmeldung: https://membertools.shotokan-berlin.de/grading-login \nZugangs-Code vergibt der Trainer und erteilt damit die Prüfungsberechtigung\, wenn der erforderlichem Trainingsstand erreicht ist. \nYou will receive the access code from the instructor.\nOnly the instructor issues the access code and grants the right to take the exam\, provided the required level of training has been reached.
URL:https://www.shotokan-berlin.de/event/jka-kyu-pruefungen-in-berlin/
CATEGORIES:Prüfung,Seminar
END:VEVENT
BEGIN:VEVENT
DTSTART;VALUE=DATE:20260501
DTEND;VALUE=DATE:20260502
DTSTAMP:20260421T115946
CREATED:20260412T120149Z
LAST-MODIFIED:20260412T143716Z
UID:7506-1777593600-1777679999@www.shotokan-berlin.de
SUMMARY:Feiertag - Tag der Arbeit
DESCRIPTION:kein Training in allen Gruppen |\nNo training in any classes
URL:https://www.shotokan-berlin.de/event/feiertag-1-mai/
CATEGORIES:Ferien und Feiertage
END:VEVENT
BEGIN:VEVENT
DTSTART;VALUE=DATE:20260508
DTEND;VALUE=DATE:20260511
DTSTAMP:20260421T115946
CREATED:20260125T192957Z
LAST-MODIFIED:20260125T192957Z
UID:7305-1778198400-1778457599@www.shotokan-berlin.de
SUMMARY:JKA WF England Windsor Camp
DESCRIPTION:JKA WF England Windsor Camp\,\nJKA WF England Spring Gasshuku at Windsor Leisure Centre with \nKawasoe Sensei\, Izumiya Sensei and Nemoto Sensei 
URL:https://www.shotokan-berlin.de/event/jka-wf-england-windsor-camp/
CATEGORIES:Gasshuku
END:VEVENT
BEGIN:VEVENT
DTSTART;VALUE=DATE:20260514
DTEND;VALUE=DATE:20260515
DTSTAMP:20260421T115946
CREATED:20260412T120823Z
LAST-MODIFIED:20260412T120838Z
UID:7510-1778716800-1778803199@www.shotokan-berlin.de
SUMMARY:Feiertag
DESCRIPTION:kein Training in allen Gruppen | No training in any classes
URL:https://www.shotokan-berlin.de/event/feiertag/
CATEGORIES:Ferien und Feiertage
END:VEVENT
BEGIN:VEVENT
DTSTART;VALUE=DATE:20260515
DTEND;VALUE=DATE:20260516
DTSTAMP:20260421T115946
CREATED:20260412T121135Z
LAST-MODIFIED:20260412T121836Z
UID:7512-1778803200-1778889599@www.shotokan-berlin.de
SUMMARY:Brücken Tag
DESCRIPTION:kein Training in allen Gruppen | No training in any classes\n(Sporthalle geschlossen | Sports hall closed)
URL:https://www.shotokan-berlin.de/event/bruecken-tag/
CATEGORIES:Ferien und Feiertage
END:VEVENT
BEGIN:VEVENT
DTSTART;VALUE=DATE:20260522
DTEND;VALUE=DATE:20260525
DTSTAMP:20260421T115946
CREATED:20260125T185948Z
LAST-MODIFIED:20260221T202935Z
UID:7292-1779408000-1779667199@www.shotokan-berlin.de
SUMMARY:JKA Lehrgang Ogura Sensei &  Naka Sensei
DESCRIPTION:Ogura Yasunori Sensei und Naka Tatsuya Sensei in Timisoara
URL:https://www.shotokan-berlin.de/event/jka-lehrgang-yasunori-sensei-naka-sensei/
CATEGORIES:Gasshuku,Seminar
END:VEVENT
BEGIN:VEVENT
DTSTART;VALUE=DATE:20260525
DTEND;VALUE=DATE:20260526
DTSTAMP:20260421T115946
CREATED:20260412T144004Z
LAST-MODIFIED:20260412T150047Z
UID:7518-1779667200-1779753599@www.shotokan-berlin.de
SUMMARY:Pfingstmontag
DESCRIPTION:kein Training in allen Gruppen | No training in any classes
URL:https://www.shotokan-berlin.de/event/pfingstmontag/
CATEGORIES:Ferien und Feiertage
END:VEVENT
BEGIN:VEVENT
DTSTART;VALUE=DATE:20260526
DTEND;VALUE=DATE:20260528
DTSTAMP:20260421T115946
CREATED:20260412T143801Z
LAST-MODIFIED:20260412T145517Z
UID:7515-1779753600-1779926399@www.shotokan-berlin.de
SUMMARY:Pfingstferien
DESCRIPTION:kein Training für Kinder und Jugendliche |\nNo training in Kids and Youthg classes
URL:https://www.shotokan-berlin.de/event/pfingstferien/
CATEGORIES:Ferien und Feiertage
END:VEVENT
BEGIN:VEVENT
DTSTART;VALUE=DATE:20260606
DTEND;VALUE=DATE:20260607
DTSTAMP:20260421T115946
CREATED:20260125T190300Z
LAST-MODIFIED:20260125T190300Z
UID:7297-1780704000-1780790399@www.shotokan-berlin.de
SUMMARY:JKA Romanian Open
DESCRIPTION:JKA Romanian Open\, Timisoara\, Rumänien
URL:https://www.shotokan-berlin.de/event/jka-romanian-open/
CATEGORIES:Taikai,Tournament,Wettkampf
END:VEVENT
BEGIN:VEVENT
DTSTART;VALUE=DATE:20260613
DTEND;VALUE=DATE:20260615
DTSTAMP:20260421T115946
CREATED:20260125T181141Z
LAST-MODIFIED:20260409T192135Z
UID:7260-1781308800-1781481599@www.shotokan-berlin.de
SUMMARY:JKA Seminar Kawasoe Sensei
DESCRIPTION:Kawasoe Sensei in Kaltenkirchen \nKawasoe Sensei in Kaltenkirchen 2026_Ausschreibung als PDF
URL:https://www.shotokan-berlin.de/event/jka-seminar-kawasoe-sensei/
CATEGORIES:Seminar
END:VEVENT
BEGIN:VEVENT
DTSTART;VALUE=DATE:20260620
DTEND;VALUE=DATE:20260621
DTSTAMP:20260421T115946
CREATED:20260125T181508Z
LAST-MODIFIED:20260409T192616Z
UID:7262-1781913600-1781999999@www.shotokan-berlin.de
SUMMARY:JKA Shokukai Cup
DESCRIPTION:JKA Bundesstilrichtungsmeisterschaft in Lollar\,\nJKA Shokukai Germany Cup
URL:https://www.shotokan-berlin.de/event/jka-shokukai-cup/
LOCATION:Lollar\, Hessen\, Deutschland
CATEGORIES:Taikai,Tournament,Wettkampf
END:VEVENT
BEGIN:VEVENT
DTSTART;VALUE=DATE:20260628
DTEND;VALUE=DATE:20260629
DTSTAMP:20260421T115946
CREATED:20260126T165745Z
LAST-MODIFIED:20260126T165942Z
UID:7323-1782604800-1782691199@www.shotokan-berlin.de
SUMMARY:Berliner Karate Verband Nachwuchs Cup
DESCRIPTION:BKV 
URL:https://www.shotokan-berlin.de/event/berliner-karate-verband-nachwuchs-cup/
CATEGORIES:Wettkampf
END:VEVENT
BEGIN:VEVENT
DTSTART;VALUE=DATE:20260807
DTEND;VALUE=DATE:20260810
DTSTAMP:20260421T115946
CREATED:20260125T194110Z
LAST-MODIFIED:20260125T194110Z
UID:7311-1786060800-1786319999@www.shotokan-berlin.de
SUMMARY:JKA WF International Summer Camp
DESCRIPTION:JKA WF International Summer Camp in Paisley\, Scotland with Kawasoe Sensei and TBC
URL:https://www.shotokan-berlin.de/event/jka-wf-international-summer-camp/
CATEGORIES:Gasshuku
END:VEVENT
BEGIN:VEVENT
DTSTART;VALUE=DATE:20260905
DTEND;VALUE=DATE:20260907
DTSTAMP:20260421T115946
CREATED:20260125T181851Z
LAST-MODIFIED:20260409T192440Z
UID:7264-1788566400-1788739199@www.shotokan-berlin.de
SUMMARY:JKA Shokukai Camp Kawasoe Sensei
DESCRIPTION:Kawasoe Sensei in Lollar bei Gießen\nJKA Shokukai Germany 
URL:https://www.shotokan-berlin.de/event/jka-lehrgang-kawasoe-sensei/
LOCATION:Lollar\, Hessen\, Deutschland
CATEGORIES:Gasshuku,Seminar
END:VEVENT
BEGIN:VEVENT
DTSTART;VALUE=DATE:20260918
DTEND;VALUE=DATE:20260921
DTSTAMP:20260421T115946
CREATED:20260302T162501Z
LAST-MODIFIED:20260302T162513Z
UID:7430-1789689600-1789948799@www.shotokan-berlin.de
SUMMARY:JKA Camp mit Imura Sensei und Shiina Sensei
DESCRIPTION:Ausrichter: JKA Berlin
URL:https://www.shotokan-berlin.de/event/jka-camp-mit-imura-sensei-und-shiina-sensei/
LOCATION:Berlin-Buch\, Berlin-Buch Ernst-Busch-Straße 27\, Berlin\, 13125\, Deutschland
CATEGORIES:Seminar
END:VEVENT
BEGIN:VEVENT
DTSTART;VALUE=DATE:20261010
DTEND;VALUE=DATE:20261011
DTSTAMP:20260421T115946
CREATED:20260125T190641Z
LAST-MODIFIED:20260125T190641Z
UID:7301-1791590400-1791676799@www.shotokan-berlin.de
SUMMARY:JKA Lubusz Cup
DESCRIPTION:Polen
URL:https://www.shotokan-berlin.de/event/jka-lubusz-cup-2/
CATEGORIES:Taikai,Tournament,Wettkampf
END:VEVENT
BEGIN:VEVENT
DTSTART;VALUE=DATE:20261015
DTEND;VALUE=DATE:20261019
DTSTAMP:20260421T115946
CREATED:20260125T190820Z
LAST-MODIFIED:20260125T190855Z
UID:7303-1792022400-1792367999@www.shotokan-berlin.de
SUMMARY:JKA Joint Autumn Camp
DESCRIPTION:Tokyo\, Japan\, JKA Headquarters
URL:https://www.shotokan-berlin.de/event/jka-joint-autumn-camp-2/
CATEGORIES:Gasshuku,Seminar
END:VEVENT
BEGIN:VEVENT
DTSTART;VALUE=DATE:20261030
DTEND;VALUE=DATE:20261101
DTSTAMP:20260421T115946
CREATED:20260316T180032Z
LAST-MODIFIED:20260409T192716Z
UID:7436-1793318400-1793491199@www.shotokan-berlin.de
SUMMARY:JKA Shokukai Aki Camp mit Shiina Sensei
DESCRIPTION:JKA Shokukai Aki Camp mit Shiina Sensei in Lollar bei Gießen in Hessen \n \nLink zur Veranstaltung auf: JKA Shokukai 
URL:https://www.shotokan-berlin.de/event/jka-shokukai-aki-camp-mit-shiina-sensei/
LOCATION:Lollar\, Hessen\, Deutschland
CATEGORIES:Gasshuku,Seminar
END:VEVENT
BEGIN:VEVENT
DTSTART;VALUE=DATE:20261205
DTEND;VALUE=DATE:20261206
DTSTAMP:20260421T115946
CREATED:20260125T183219Z
LAST-MODIFIED:20260125T184833Z
UID:7273-1796428800-1796515199@www.shotokan-berlin.de
SUMMARY:Nikolaus Cup
DESCRIPTION:JKA Kinder- und Jugendturnier Berlin Buch
URL:https://www.shotokan-berlin.de/event/nikolaus-cup-3/
CATEGORIES:Taikai,Wettkampf
END:VEVENT
END:VCALENDAR